BEGIN:VCALENDAR
VERSION:2.0
PRODID:-//JAFFAR PUBLIC SCHOOL - ECPv6.3.2//NONSGML v1.0//EN
CALSCALE:GREGORIAN
METHOD:PUBLISH
X-WR-CALNAME:JAFFAR PUBLIC SCHOOL
X-ORIGINAL-URL:https://jaffarschool.edu.pk
X-WR-CALDESC:Events for JAFFAR PUBLIC SCHOOL
REFRESH-INTERVAL;VALUE=DURATION:PT1H
X-Robots-Tag:noindex
X-PUBLISHED-TTL:PT1H
BEGIN:VTIMEZONE
TZID:UTC
BEGIN:STANDARD
TZOFFSETFROM:+0000
TZOFFSETTO:+0000
TZNAME:UTC
DTSTART:20230101T000000
END:STANDARD
END:VTIMEZONE
BEGIN:VEVENT
DTSTART;VALUE=DATE:20230517
DTEND;VALUE=DATE:20230518
DTSTAMP:20260422T122458
CREATED:20230511T180648Z
LAST-MODIFIED:20230517T111953Z
UID:2257-1684281600-1684367999@jaffarschool.edu.pk
SUMMARY:INDEPENDENCE DAY
DESCRIPTION:August is all about Pakistan. This year the zeal of patriotism came alive online. Our students and teachers celebrated the 74th Independence Day with full joy and enthusiasm. Students were made aware of their nationality and their country with national identities\, the flag\, National Anthem\, landmarks and of course Quaid e Azam.
URL:https://jaffarschool.edu.pk/event/independence-day/
CATEGORIES:KINDERGARTEN
END:VEVENT
END:VCALENDAR